BEGIN:VCALENDAR
VERSION:2.0
PRODID:-//Florida Citrus Growers - ECPv6.15.17//NONSGML v1.0//EN
CALSCALE:GREGORIAN
METHOD:PUBLISH
X-WR-CALNAME:Florida Citrus Growers
X-ORIGINAL-URL:https://www.floridacitrus.org/grower
X-WR-CALDESC:Events for Florida Citrus Growers
REFRESH-INTERVAL;VALUE=DURATION:PT1H
X-Robots-Tag:noindex
X-PUBLISHED-TTL:PT1H
BEGIN:VTIMEZONE
TZID:America/New_York
BEGIN:DAYLIGHT
TZOFFSETFROM:-0500
TZOFFSETTO:-0400
TZNAME:EDT
DTSTART:20210314T070000
END:DAYLIGHT
BEGIN:STANDARD
TZOFFSETFROM:-0400
TZOFFSETTO:-0500
TZNAME:EST
DTSTART:20211107T060000
END:STANDARD
BEGIN:DAYLIGHT
TZOFFSETFROM:-0500
TZOFFSETTO:-0400
TZNAME:EDT
DTSTART:20220313T070000
END:DAYLIGHT
BEGIN:STANDARD
TZOFFSETFROM:-0400
TZOFFSETTO:-0500
TZNAME:EST
DTSTART:20221106T060000
END:STANDARD
BEGIN:DAYLIGHT
TZOFFSETFROM:-0500
TZOFFSETTO:-0400
TZNAME:EDT
DTSTART:20230312T070000
END:DAYLIGHT
BEGIN:STANDARD
TZOFFSETFROM:-0400
TZOFFSETTO:-0500
TZNAME:EST
DTSTART:20231105T060000
END:STANDARD
BEGIN:DAYLIGHT
TZOFFSETFROM:-0500
TZOFFSETTO:-0400
TZNAME:EDT
DTSTART:20240310T070000
END:DAYLIGHT
BEGIN:STANDARD
TZOFFSETFROM:-0400
TZOFFSETTO:-0500
TZNAME:EST
DTSTART:20241103T060000
END:STANDARD
BEGIN:DAYLIGHT
TZOFFSETFROM:-0500
TZOFFSETTO:-0400
TZNAME:EDT
DTSTART:20250309T070000
END:DAYLIGHT
BEGIN:STANDARD
TZOFFSETFROM:-0400
TZOFFSETTO:-0500
TZNAME:EST
DTSTART:20251102T060000
END:STANDARD
BEGIN:DAYLIGHT
TZOFFSETFROM:-0500
TZOFFSETTO:-0400
TZNAME:EDT
DTSTART:20260308T070000
END:DAYLIGHT
BEGIN:STANDARD
TZOFFSETFROM:-0400
TZOFFSETTO:-0500
TZNAME:EST
DTSTART:20261101T060000
END:STANDARD
END:VTIMEZONE
BEGIN:VEVENT
DTSTART;TZID=America/New_York:20250305T110000
DTEND;TZID=America/New_York:20250305T110000
DTSTAMP:20260425T070022
CREATED:20250221T133815Z
LAST-MODIFIED:20250221T133816Z
UID:7004-1741172400-1741172400@www.floridacitrus.org
SUMMARY:Processing Statistics Reporting Advisory Committee Meeting
DESCRIPTION:Florida Department of Citrus \n\n\n\n605 E. Main Street \n\n\n\nBartow\, FL 33830 \n\n\n\nMeeting Notice and Documents
URL:https://www.floridacitrus.org/grower/webinar/processing-statistics-reporting-advisory-committee-meeting-10/
LOCATION:Florida Department of Citrus\, 605 East Main Street\, Bartow\, FL\, 33830\, United States
CATEGORIES:Public Meetings
END:VEVENT
BEGIN:VEVENT
DTSTART;TZID=America/New_York:20241218T090000
DTEND;TZID=America/New_York:20241218T090000
DTSTAMP:20260425T070022
CREATED:20231026T143919Z
LAST-MODIFIED:20241217T201916Z
UID:6420-1734512400-1734512400@www.floridacitrus.org
SUMMARY:Florida Citrus Commission Meeting
DESCRIPTION:We are experiencing technical difficulties and will NOT be broadcasting via Teams today.\n\n\n\nPlease join us via teleconference: \n\n\n\nDial 888-585-9008 \n\n\n\nWhen prompted\, enter conference room 258577262# \n\n\n\nFlorida Department of Citrus \n\n\n\n605 E. Main Street \n\n\n\nBartow\, FL 33830 \n\n\n\nMeeting Notice and Documents
URL:https://www.floridacitrus.org/grower/webinar/florida-citrus-commission-meeting-54/
LOCATION:Florida Department of Citrus\, 605 East Main Street\, Bartow\, FL\, 33830\, United States
CATEGORIES:Public Meetings
END:VEVENT
BEGIN:VEVENT
DTSTART;TZID=America/New_York:20241202T110000
DTEND;TZID=America/New_York:20241202T110000
DTSTAMP:20260425T070022
CREATED:20241202T201203Z
LAST-MODIFIED:20241202T203039Z
UID:6897-1733137200-1733137200@www.floridacitrus.org
SUMMARY:Virtual Florida Citrus Commission Meeting
DESCRIPTION:This is a virtual meeting and is only accessible through the Microsoft Teams meeting link or call-in number listed below. \n\n\n\nJoin on your computer\, mobile app or room device: Click here to join the meetingMeeting ID: 299 640 240 972 Passcode: 3tH92cf7 \n\n\n\nYou may also call in to the meeting (audio only) by using the following telephone number and conference ID:+1 904-539-9759\,\, 203689538# United States\, JacksonvillePhone Conference ID: 203 689 538# \n\n\n\nMeeting Notice and Documents
URL:https://www.floridacitrus.org/grower/webinar/virtual-florida-citrus-commission-meeting-2/
LOCATION:Florida Department of Citrus\, 605 East Main Street\, Bartow\, FL\, 33830\, United States
CATEGORIES:Public Meetings
END:VEVENT
BEGIN:VEVENT
DTSTART;TZID=America/New_York:20241121T090000
DTEND;TZID=America/New_York:20241121T090000
DTSTAMP:20260425T070022
CREATED:20241114T161137Z
LAST-MODIFIED:20241114T161138Z
UID:6866-1732179600-1732179600@www.floridacitrus.org
SUMMARY:Virtual Florida Citrus Commission Meeting
DESCRIPTION:This is a virtual meeting and is only accessible through the Microsoft Teams meeting link or call-in number listed below. \n\n\n\nJoin on your computer\, mobile app or room device: Click here to join the meetingMeeting ID: 298 837 833 49 Passcode: XhXg9pDownload Teams | Join on the web \n\n\n\nYou may also call in to the meeting (audio only) by using the following telephone number and conference ID:+1 904-539-9759\,\,693581159# United States\, JacksonvillePhone Conference ID: 693 581 159# \n\n\n\nMeeting Notice and Documents
URL:https://www.floridacitrus.org/grower/webinar/virtual-florida-citrus-commission-meeting/
LOCATION:Florida Department of Citrus\, 605 East Main Street\, Bartow\, FL\, 33830\, United States
CATEGORIES:Public Meetings
END:VEVENT
BEGIN:VEVENT
DTSTART;TZID=America/New_York:20241030T140000
DTEND;TZID=America/New_York:20241030T150000
DTSTAMP:20260425T070022
CREATED:20241022T200809Z
LAST-MODIFIED:20241022T201016Z
UID:6825-1730296800-1730300400@www.floridacitrus.org
SUMMARY:Gift Fruit Shippers Advisory Council Meeting
DESCRIPTION:Zoom Instructions: \n\n\n\n\nClick the Zoom meeting link to join the webinar at the designated date and time: https://respublica.zoom.us/j/82683977124?pwd=eOgHnHIX2jQcQa2u0G8NstERfQ3ufs.1\n\n\n\nClick the “Open Zoom Meeting” button in the pop-up window\n\n\n\nClick the “Join with Computer Audio” button in the pop-up window\n\n\n\nYou will then be placed into the live video presentation\n\n\n\n\nDial-In By Phone (audio only) Instructions: \n\n\n\n\nCall (309) 205-3325\n\n\n\nEnter Meeting ID: 826 8397 7124\n\n\n\nEnter Passcode: 639098\n\n\n\n\nMeeting Notice and Documents
URL:https://www.floridacitrus.org/grower/webinar/gift-fruit-shippers-advisory-council-meeting-5/
LOCATION:FL
CATEGORIES:Public Meetings
END:VEVENT
BEGIN:VEVENT
DTSTART;TZID=America/New_York:20241023T090000
DTEND;TZID=America/New_York:20241023T090000
DTSTAMP:20260425T070022
CREATED:20231026T143816Z
LAST-MODIFIED:20231030T170312Z
UID:6418-1729674000-1729674000@www.floridacitrus.org
SUMMARY:Florida Citrus Commission Meeting
DESCRIPTION:Florida Department of Citrus \n\n\n\n605 E. Main Street \n\n\n\nBartow\, FL 33830 \n\n\n\nMeeting Notice and Documents
URL:https://www.floridacitrus.org/grower/webinar/florida-citrus-commission-meeting-53/
LOCATION:Florida Department of Citrus\, 605 East Main Street\, Bartow\, FL\, 33830\, United States
CATEGORIES:Public Meetings
END:VEVENT
BEGIN:VEVENT
DTSTART;TZID=America/New_York:20240925T090000
DTEND;TZID=America/New_York:20240925T090000
DTSTAMP:20260425T070022
CREATED:20231026T143633Z
LAST-MODIFIED:20240620T135907Z
UID:6416-1727254800-1727254800@www.floridacitrus.org
SUMMARY:Florida Citrus Commission Meeting
DESCRIPTION:Florida Department of Citrus \n\n\n\n605 E. Main Street \n\n\n\nBartow\, FL 33830 \n\n\n\nMeeting Notice and Documents
URL:https://www.floridacitrus.org/grower/webinar/florida-citrus-commission-meeting-52/
LOCATION:Florida Department of Citrus\, 605 East Main Street\, Bartow\, FL\, 33830\, United States
CATEGORIES:Public Meetings
END:VEVENT
BEGIN:VEVENT
DTSTART;TZID=America/New_York:20240910T100000
DTEND;TZID=America/New_York:20240910T100000
DTSTAMP:20260425T070022
CREATED:20240903T141216Z
LAST-MODIFIED:20240903T141217Z
UID:6778-1725962400-1725962400@www.floridacitrus.org
SUMMARY:Processing Statistics Reporting Advisory Committee Meeting
DESCRIPTION:Florida Department of Citrus \n\n\n\n605 E. Main Street \n\n\n\nBartow\, FL 33830 \n\n\n\nMeeting Notice and Documents
URL:https://www.floridacitrus.org/grower/webinar/processing-statistics-reporting-advisory-committee-meeting-9/
LOCATION:Florida Department of Citrus\, 605 East Main Street\, Bartow\, FL\, 33830\, United States
CATEGORIES:Public Meetings
END:VEVENT
BEGIN:VEVENT
DTSTART;TZID=America/New_York:20240612T123000
DTEND;TZID=America/New_York:20240612T123000
DTSTAMP:20260425T070022
CREATED:20231026T142800Z
LAST-MODIFIED:20240401T204230Z
UID:6407-1718195400-1718195400@www.floridacitrus.org
SUMMARY:Florida Citrus Commission Meeting
DESCRIPTION:5001 Coconut Road \n\n\n\nBonita Springs\, FL 34134 \n\n\n\nMeeting Notice and Documents
URL:https://www.floridacitrus.org/grower/webinar/florida-citrus-commission-meeting-51/
LOCATION:Hyatt Regency Coconut Point\, 5001 Coconut Road\, Bonita Springs\, Florida\, 34134
CATEGORIES:Public Meetings
END:VEVENT
BEGIN:VEVENT
DTSTART;TZID=America/New_York:20240509T090000
DTEND;TZID=America/New_York:20240509T090000
DTSTAMP:20260425T070022
CREATED:20231026T142512Z
LAST-MODIFIED:20240214T202144Z
UID:6405-1715245200-1715245200@www.floridacitrus.org
SUMMARY:Florida Citrus Commission Meeting
DESCRIPTION:Florida Department of Citrus \n\n\n\n605 E. Main Street \n\n\n\nBartow\, FL  33830 \n\n\n\nMeeting Notice and Documents
URL:https://www.floridacitrus.org/grower/webinar/florida-citrus-commission-meeting-50/
LOCATION:Florida Department of Citrus\, 605 East Main Street\, Bartow\, FL\, 33830\, United States
CATEGORIES:Public Meetings
END:VEVENT
BEGIN:VEVENT
DTSTART;TZID=America/New_York:20240424T140000
DTEND;TZID=America/New_York:20240424T140000
DTSTAMP:20260425T070022
CREATED:20240412T194045Z
LAST-MODIFIED:20240412T195617Z
UID:6677-1713967200-1713967200@www.floridacitrus.org
SUMMARY:Telephonic Florida Citrus Commission Meeting
DESCRIPTION:Meeting Notice and Documents
URL:https://www.floridacitrus.org/grower/webinar/telephonic-florida-citrus-commission-meeting-2/
LOCATION:FL
CATEGORIES:Public Meetings
END:VEVENT
BEGIN:VEVENT
DTSTART;TZID=America/New_York:20240320T090000
DTEND;TZID=America/New_York:20240320T090000
DTSTAMP:20260425T070022
CREATED:20231026T143422Z
LAST-MODIFIED:20240312T170838Z
UID:6413-1710925200-1710925200@www.floridacitrus.org
SUMMARY:Virtual Florida Citrus Commission Meeting
DESCRIPTION:This is a virtual meeting and is only accessible through the Microsoft Teams meeting link or call-in number listed below. \n\n\n\nJoin on your computer\, mobile app or room device: Click here to join the meetingMeeting ID: 271 710 885 626 Passcode: tunSMjDownload Teams | Join on the web \n\n\n\nYou may also call in to the meeting (audio only) by using the following telephone number and conference ID:+1 904-539-9759\,\,46784301# United States\, JacksonvillePhone Conference ID: 467 843 01# \n\n\n\nMeeting Notice and Documents
URL:https://www.floridacitrus.org/grower/webinar/florida-citrus-commission-meeting-49/
LOCATION:Florida Department of Citrus\, 605 East Main Street\, Bartow\, FL\, 33830\, United States
CATEGORIES:Public Meetings
END:VEVENT
BEGIN:VEVENT
DTSTART;TZID=America/New_York:20240306T090000
DTEND;TZID=America/New_York:20240306T090000
DTSTAMP:20260425T070022
CREATED:20240219T145029Z
LAST-MODIFIED:20240219T145506Z
UID:6594-1709715600-1709715600@www.floridacitrus.org
SUMMARY:RFP Finalist Review Workshop (RFP 23-04)
DESCRIPTION:Florida Department of Citrus \n\n\n\n605 E. Main Street \n\n\n\nBartow\, FL 33830 \n\n\n\nMeeting Notice and Documents
URL:https://www.floridacitrus.org/grower/webinar/rfp-finalist-review-workshop-rfp-23-04/
LOCATION:Florida Department of Citrus\, 605 East Main Street\, Bartow\, FL\, 33830\, United States
CATEGORIES:Public Meetings
END:VEVENT
BEGIN:VEVENT
DTSTART;TZID=America/New_York:20240227T090000
DTEND;TZID=America/New_York:20240227T090000
DTSTAMP:20260425T070022
CREATED:20240219T144853Z
LAST-MODIFIED:20240219T145617Z
UID:6593-1709024400-1709024400@www.floridacitrus.org
SUMMARY:RFP Finalist Review Workshop (RFP 23-05)
DESCRIPTION:Florida Department of Citrus \n\n\n\n605 E. Main Street \n\n\n\nBartow\, FL 33830 \n\n\n\nMeeting Notice and Documents
URL:https://www.floridacitrus.org/grower/webinar/rfp-finalist-review-workshop-rfp-23-05/
LOCATION:Florida Department of Citrus\, 605 East Main Street\, Bartow\, FL\, 33830\, United States
CATEGORIES:Public Meetings
END:VEVENT
BEGIN:VEVENT
DTSTART;TZID=America/New_York:20240212T090000
DTEND;TZID=America/New_York:20240212T090000
DTSTAMP:20260425T070022
CREATED:20240201T195247Z
LAST-MODIFIED:20240201T195519Z
UID:6542-1707728400-1707728400@www.floridacitrus.org
SUMMARY:Telephonic Florida Citrus Commission Meeting
DESCRIPTION:Meeting Notice and Documents
URL:https://www.floridacitrus.org/grower/webinar/telephonic-florida-citrus-commission-meeting/
LOCATION:Florida Department of Citrus\, 605 East Main Street\, Bartow\, FL\, 33830\, United States
CATEGORIES:Public Meetings
END:VEVENT
BEGIN:VEVENT
DTSTART;TZID=America/New_York:20240117T090000
DTEND;TZID=America/New_York:20240117T090000
DTSTAMP:20260425T070022
CREATED:20231026T140311Z
LAST-MODIFIED:20231030T170519Z
UID:6400-1705482000-1705482000@www.floridacitrus.org
SUMMARY:Florida Citrus Commission Meeting
DESCRIPTION:Florida Department of Citrus \n\n\n\n605 E. Main Street \n\n\n\nBartow\, FL 33830 \n\n\n\nMeeting Notice and Documents
URL:https://www.floridacitrus.org/grower/webinar/florida-citrus-commission-meeting-47/
LOCATION:Florida Department of Citrus\, 605 East Main Street\, Bartow\, FL\, 33830\, United States
CATEGORIES:Public Meetings
END:VEVENT
BEGIN:VEVENT
DTSTART;TZID=America/New_York:20231107T100000
DTEND;TZID=America/New_York:20231107T100000
DTSTAMP:20260425T070022
CREATED:20231107T163327Z
LAST-MODIFIED:20231107T164240Z
UID:6456-1699351200-1699351200@www.floridacitrus.org
SUMMARY:Benefits from FDOC Generic Promotion on the Demand for Orange Juice and Return to Florida Producers
DESCRIPTION:Webinar / Zoom Instructions: \n\n\n\n\nClick the Zoom meeting link to join the webinar at the designated date and time: https://djeholdings.zoom.us/j/84344106391?pwd=aVRveU1vbmhxSXJlTG9uZ1RHdXVWZz09\n\n\n\nClick the “Open Zoom Meeting” button in the pop-up window\n\n\n\nClick the “Join with Computer Audio” button in the pop-up window\n\n\n\nYou will then be placed into the live video presentation\n\n\n\n\nDial-In By Phone (only) Instructions: \n\n\n\n\nCall 346 248 7799 US (Houston)\n\n\n\nAlternative Call-in Numbers: Call 646 558 8656 US (New York) or find you local number: https://djeholdings.zoom.us/u/adQ771OZSt\n\n\n\nEnter Meeting ID: 843 4410 6391\n\n\n\nEnter Password: 340021\n\n\n\n\nDownload Webinar Materials
URL:https://www.floridacitrus.org/grower/webinar/benefits-from-fdoc-generic-promotion-on-the-demand-for-orange-juice-and-return-to-florida-producers/
LOCATION:FL
CATEGORIES:Webinars
END:VEVENT
BEGIN:VEVENT
DTSTART;TZID=America/New_York:20231025T090000
DTEND;TZID=America/New_York:20231025T090000
DTSTAMP:20260425T070022
CREATED:20230111T171534Z
LAST-MODIFIED:20230606T204644Z
UID:4892-1698224400-1698224400@www.floridacitrus.org
SUMMARY:Florida Citrus Commission Meeting October
DESCRIPTION:Florida Department of Citrus \n\n\n\n605 East Main Street \n\n\n\nBartow\, FL 33830 \n\n\n\nMeeting Notice and Documents
URL:https://www.floridacitrus.org/grower/webinar/florida-citrus-commission-meeting-48/
LOCATION:Florida Department of Citrus\, 605 East Main Street\, Bartow\, FL\, 33830\, United States
CATEGORIES:Public Meetings
END:VEVENT
BEGIN:VEVENT
DTSTART;TZID=America/New_York:20231011T140000
DTEND;TZID=America/New_York:20231011T140000
DTSTAMP:20260425T070022
CREATED:20231003T150933Z
LAST-MODIFIED:20231003T164015Z
UID:6365-1697032800-1697032800@www.floridacitrus.org
SUMMARY:Gift Fruit Shippers Advisory Council Meeting
DESCRIPTION:Zoom Instructions: \n\n\n\n\nClick the Zoom meeting link to join the webinar at the designated date and time: https://djeholdings.zoom.us/j/84045700781?pwd=L3gwYTZ6Z1hxajZvaGorbWgyMERjdz09\n\n\n\nClick the “Open Zoom Meeting” button in the pop-up window\n\n\n\nClick the “Join with Computer Audio” button in the pop-up window\n\n\n\nYou will then be placed into the live video presentation\n\n\n\n\nDial-In By Phone (audio only) Instructions: \n\n\n\n\nCall (719) 359-4580\n\n\n\nEnter Meeting ID: 840 4570 0781\n\n\n\nEnter Passcode: 884840\n\n\n\n\n \n\n\n\nMeeting Notice and Documents
URL:https://www.floridacitrus.org/grower/webinar/gift-fruit-shippers-advisory-council-meeting-4/
LOCATION:FL
CATEGORIES:Public Meetings
END:VEVENT
BEGIN:VEVENT
DTSTART;TZID=America/New_York:20231004T090000
DTEND;TZID=America/New_York:20231004T090000
DTSTAMP:20260425T070022
CREATED:20230926T153106Z
LAST-MODIFIED:20230926T153111Z
UID:6352-1696410000-1696410000@www.floridacitrus.org
SUMMARY:Research and Budget FCC Workshop
DESCRIPTION:Florida Department of Citrus \n\n\n\n605 East Main Street \n\n\n\nBartow\, FL 33830 \n\n\n\nMeeting Notice and Documents
URL:https://www.floridacitrus.org/grower/webinar/research-and-budget-fcc-workshop-2/
LOCATION:Florida Department of Citrus\, 605 East Main Street\, Bartow\, FL\, 33830\, United States
CATEGORIES:Public Meetings
END:VEVENT
BEGIN:VEVENT
DTSTART;TZID=America/New_York:20230614T123000
DTEND;TZID=America/New_York:20230614T123000
DTSTAMP:20260425T070022
CREATED:20230111T171418Z
LAST-MODIFIED:20230606T204123Z
UID:4888-1686745800-1686745800@www.floridacitrus.org
SUMMARY:Florida Citrus Commission Meeting
DESCRIPTION:5001 Coconut Road \n\n\n\nBonita Springs\, FL  34134 \n\n\n\n \n\n\n\nMeeting Notice and Documents
URL:https://www.floridacitrus.org/grower/webinar/florida-citrus-commission-meeting-46/
LOCATION:Hyatt Regency Coconut Point\, 5001 Coconut Road\, Bonita Springs\, Florida\, 34134
CATEGORIES:Public Meetings
END:VEVENT
BEGIN:VEVENT
DTSTART;TZID=America/New_York:20230517T090000
DTEND;TZID=America/New_York:20230517T090000
DTSTAMP:20260425T070022
CREATED:20230111T171350Z
LAST-MODIFIED:20230308T152707Z
UID:4886-1684314000-1684314000@www.floridacitrus.org
SUMMARY:Florida Citrus Commission Meeting
DESCRIPTION:Florida Department of Citrus \n\n\n\n605 East Main Street \n\n\n\nBartow\, FL 33830 \n\n\n\nMeeting Notice and Documents
URL:https://www.floridacitrus.org/grower/webinar/florida-citrus-commission-meeting-45/
LOCATION:Florida Department of Citrus\, 605 East Main Street\, Bartow\, FL\, 33830\, United States
CATEGORIES:Public Meetings
END:VEVENT
BEGIN:VEVENT
DTSTART;TZID=America/New_York:20230315T090000
DTEND;TZID=America/New_York:20230315T090000
DTSTAMP:20260425T070022
CREATED:20230111T170932Z
LAST-MODIFIED:20230307T162618Z
UID:4876-1678870800-1678870800@www.floridacitrus.org
SUMMARY:Florida Citrus Commission Meeting March
DESCRIPTION:Florida Department of Citrus \n\n\n\n605 East Main Street \n\n\n\nBartow\, FL 33830 \n\n\n\nMeeting Notice and Documents
URL:https://www.floridacitrus.org/grower/webinar/florida-citrus-commission-meeting-44/
LOCATION:Florida Department of Citrus\, 605 East Main Street\, Bartow\, FL\, 33830\, United States
CATEGORIES:Public Meetings
END:VEVENT
BEGIN:VEVENT
DTSTART;TZID=America/New_York:20230302T110000
DTEND;TZID=America/New_York:20230302T110000
DTSTAMP:20260425T070022
CREATED:20230222T161201Z
LAST-MODIFIED:20230222T162146Z
UID:5586-1677754800-1677754800@www.floridacitrus.org
SUMMARY:Processing Statistics Reporting Advisory Committee Meeting
DESCRIPTION:Florida Department of Citrus \n\n\n\n605 East Main Street \n\n\n\nBartow\, FL 33830 \n\n\n\n\n\n\n\nMeeting Notice and Documents
URL:https://www.floridacitrus.org/grower/webinar/processing-statistics-reporting-advisory-committee-meeting-8/
LOCATION:Florida Department of Citrus\, 605 East Main Street\, Bartow\, FL\, 33830\, United States
CATEGORIES:Public Meetings
END:VEVENT
BEGIN:VEVENT
DTSTART;TZID=America/New_York:20230301T100000
DTEND;TZID=America/New_York:20230301T100000
DTSTAMP:20260425T070022
CREATED:20230228T214812Z
LAST-MODIFIED:20230228T214822Z
UID:5608-1677664800-1677664800@www.floridacitrus.org
SUMMARY:OJ Standards of Identity Workshop
DESCRIPTION:Florida Citrus Mutual Headquarters \n\n\n\n600 N. Broadway Avenue \n\n\n\nBartow\, Florida \n\n\n\n\n\n\n\nMeeting Notice and Documents
URL:https://www.floridacitrus.org/grower/webinar/oj-standards-of-identity-workshop/
LOCATION:Florida Citrus Mutual\, 600 N. Broadway Avenue\, Bartow\, FL\, 33830\, United States
CATEGORIES:Public Meetings
END:VEVENT
BEGIN:VEVENT
DTSTART;TZID=America/New_York:20230215T100000
DTEND;TZID=America/New_York:20230215T100000
DTSTAMP:20260425T070022
CREATED:20230208T043302Z
LAST-MODIFIED:20230308T135245Z
UID:5268-1676455200-1676455200@www.floridacitrus.org
SUMMARY:FDOC Live Webinar: UF-IFAS Study: Economic Contributions of the Florida Citrus Industry
DESCRIPTION:Webinar / Zoom Instructions: \n\n\n\n\nClick the Zoom meeting link to join the webinar at the designated date and time: https://djeholdings.zoom.us/j/82207792276?pwd=QlA3dnpqZDRVbmROL3dyd2w2UUVTUT09\n\n\n\nClick the “Open Zoom Meeting” button in the pop-up window\n\n\n\nClick the “Join with Computer Audio” button in the pop-up window\n\n\n\nYou will then be placed into the live video presentation\n\n\n\n\nDial-In By Phone (audio only) Instructions: \n\n\n\n\nCall (346) 248-7799 US (Houston)\n\n\n\nAlternative Call-in Number: Call (646) 558-8656 US (New York) or find your local number:https://djeholdings.zoom.us/u/keszqVMghi\n\n\n\nEnter Meeting ID: 822 0779 2276\n\n\n\nEnter Passcode: 238587\n\n\n\n\nDownload Webinar Materials
URL:https://www.floridacitrus.org/grower/webinar/fdoc-live-webinar-uf-ifas-study-economic-contributions-of-the-florida-citrus-industry/
LOCATION:FL
CATEGORIES:Webinars
END:VEVENT
BEGIN:VEVENT
DTSTART;TZID=America/New_York:20221221T090000
DTEND;TZID=America/New_York:20221221T120000
DTSTAMP:20260425T070022
CREATED:20211102T174126Z
LAST-MODIFIED:20230420T153545Z
UID:3126-1671613200-1671624000@www.floridacitrus.org
SUMMARY:Florida Citrus Commission Meeting
DESCRIPTION:Meeting Notice and Documents
URL:https://www.floridacitrus.org/grower/webinar/florida-citrus-commission-meeting-40/
LOCATION:Row – Benefit Cards
CATEGORIES:Public Meetings
END:VEVENT
BEGIN:VEVENT
DTSTART;TZID=America/New_York:20221212T100000
DTEND;TZID=America/New_York:20221212T100000
DTSTAMP:20260425T070022
CREATED:20230308T135057Z
LAST-MODIFIED:20230308T135222Z
UID:5742-1670839200-1670839200@www.floridacitrus.org
SUMMARY:Benefits from FDOC Generic Promotion on the Demand for Orange Juice
DESCRIPTION:Webinar / Zoom Instructions: \n\n\n\n\nClick the Zoom meeting link to join the webinar at the designated date and time:  https://djeholdings.zoom.us/j/86580248319?pwd=U0J5YVBHNGNrZHAvQlh6cU5Lc0pEQT09\n\n\n\nClick the “Open Zoom Meeting” button in the pop-up window\n\n\n\nClick the “Join with Computer Audio” button in the pop-up window\n\n\n\nYou will then be placed into the live video presentation\n\n\n\n\nDial-In By Phone (audio only) Instructions: \n\n\n\n\nCall (346) 248-7799 US (Houston)\n\n\n\nAlternative Call-in Number: Call (646) 558-8656 US (New York) or find your local number:https://djeholdings.zoom.us/u/keszqVMghi\n\n\n\nEnter Meeting ID: 865 8024 8319\n\n\n\nEnter Passcode: 931175\n\n\n\n\nWebinar Video \n\n\n\nPresentation Materials: Benefits from FDOC Generic Promotion on the Demand for Orange Juice
URL:https://www.floridacitrus.org/grower/webinar/benefits-from-fdoc-generic-promotion-on-the-demand-for-orange-juice/
LOCATION:FL
CATEGORIES:Webinars
END:VEVENT
BEGIN:VEVENT
DTSTART;TZID=America/New_York:20221026T090000
DTEND;TZID=America/New_York:20221026T120000
DTSTAMP:20260425T070022
CREATED:20211102T174039Z
LAST-MODIFIED:20230420T153505Z
UID:3125-1666774800-1666785600@www.floridacitrus.org
SUMMARY:Florida Citrus Commission Meeting
DESCRIPTION:Meeting Notice and Documents
URL:https://www.floridacitrus.org/grower/webinar/florida-citrus-commission-meeting-39/
LOCATION:Row – Benefit Cards
END:VEVENT
BEGIN:VEVENT
DTSTART;TZID=America/New_York:20220921T090000
DTEND;TZID=America/New_York:20220921T120000
DTSTAMP:20260425T070022
CREATED:20211102T173934Z
LAST-MODIFIED:20211102T173934Z
UID:1941-1663750800-1663761600@www.floridacitrus.org
SUMMARY:Florida Citrus Commission Meeting
DESCRIPTION:Meeting Notice and Documents
URL:https://www.floridacitrus.org/grower/webinar/florida-citrus-commission-meeting-38/
LOCATION:Row – Benefit Cards
END:VEVENT
END:VCALENDAR