BEGIN:VCALENDAR
VERSION:2.0
PRODID:-//Florida Citrus Growers - ECPv6.15.17//NONSGML v1.0//EN
CALSCALE:GREGORIAN
METHOD:PUBLISH
X-ORIGINAL-URL:https://www.floridacitrus.org/grower
X-WR-CALDESC:Events for Florida Citrus Growers
REFRESH-INTERVAL;VALUE=DURATION:PT1H
X-Robots-Tag:noindex
X-PUBLISHED-TTL:PT1H
BEGIN:VTIMEZONE
TZID:America/New_York
BEGIN:DAYLIGHT
TZOFFSETFROM:-0500
TZOFFSETTO:-0400
TZNAME:EDT
DTSTART:20250309T070000
END:DAYLIGHT
BEGIN:STANDARD
TZOFFSETFROM:-0400
TZOFFSETTO:-0500
TZNAME:EST
DTSTART:20251102T060000
END:STANDARD
BEGIN:DAYLIGHT
TZOFFSETFROM:-0500
TZOFFSETTO:-0400
TZNAME:EDT
DTSTART:20260308T070000
END:DAYLIGHT
BEGIN:STANDARD
TZOFFSETFROM:-0400
TZOFFSETTO:-0500
TZNAME:EST
DTSTART:20261101T060000
END:STANDARD
BEGIN:DAYLIGHT
TZOFFSETFROM:-0500
TZOFFSETTO:-0400
TZNAME:EDT
DTSTART:20270314T070000
END:DAYLIGHT
BEGIN:STANDARD
TZOFFSETFROM:-0400
TZOFFSETTO:-0500
TZNAME:EST
DTSTART:20271107T060000
END:STANDARD
END:VTIMEZONE
BEGIN:VEVENT
DTSTART;TZID=America/New_York:20260610T120000
DTEND;TZID=America/New_York:20260610T120000
DTSTAMP:20260424T122104
CREATED:20251001T155220Z
LAST-MODIFIED:20251016T172944Z
UID:7383-1781092800-1781092800@www.floridacitrus.org
SUMMARY:Florida Citrus Commission Meeting
DESCRIPTION:Florida Department of Citrus \n\n\n\n5001 Coconut Road \n\n\n\nBonita Springs\, FL 34134 \n\n\n\nMeeting Notice and Documents
URL:https://www.floridacitrus.org/grower/webinar/florida-citrus-commission-meeting-65/
LOCATION:Florida Department of Citrus\, 605 East Main Street\, Bartow\, FL\, 33830\, United States
CATEGORIES:Public Meetings
END:VEVENT
BEGIN:VEVENT
DTSTART;TZID=America/New_York:20260916T090000
DTEND;TZID=America/New_York:20260916T090000
DTSTAMP:20260424T122104
CREATED:20251001T155402Z
LAST-MODIFIED:20251016T173046Z
UID:7387-1789549200-1789549200@www.floridacitrus.org
SUMMARY:Florida Citrus Commission Meeting
DESCRIPTION:Florida Department of Citrus \n\n\n\n605 E. Main Street \n\n\n\nBartow\, FL 33830 \n\n\n\nMeeting Notice and Documents
URL:https://www.floridacitrus.org/grower/webinar/florida-citrus-commission-meeting-66/
LOCATION:Florida Department of Citrus\, 605 East Main Street\, Bartow\, FL\, 33830\, United States
CATEGORIES:Public Meetings
END:VEVENT
BEGIN:VEVENT
DTSTART;TZID=America/New_York:20261028T090000
DTEND;TZID=America/New_York:20261028T090000
DTSTAMP:20260424T122104
CREATED:20251001T155522Z
LAST-MODIFIED:20251016T173114Z
UID:7389-1793178000-1793178000@www.floridacitrus.org
SUMMARY:Florida Citrus Commission Meeting
DESCRIPTION:Florida Department of Citrus \n\n\n\n605 E. Main Street \n\n\n\nBartow\, FL 33830 \n\n\n\nMeeting Notice and Documents
URL:https://www.floridacitrus.org/grower/webinar/florida-citrus-commission-meeting-67/
LOCATION:Florida Department of Citrus\, 605 East Main Street\, Bartow\, FL\, 33830\, United States
CATEGORIES:Public Meetings
END:VEVENT
BEGIN:VEVENT
DTSTART;TZID=America/New_York:20261216T090000
DTEND;TZID=America/New_York:20261216T090000
DTSTAMP:20260424T122104
CREATED:20251001T155615Z
LAST-MODIFIED:20251016T173136Z
UID:7391-1797411600-1797411600@www.floridacitrus.org
SUMMARY:Florida Citrus Commission Meeting
DESCRIPTION:Florida Department of Citrus \n\n\n\n605 E. Main Street \n\n\n\nBartow\, FL 33830 \n\n\n\nMeeting Notice and Documents
URL:https://www.floridacitrus.org/grower/webinar/florida-citrus-commission-meeting-68/
LOCATION:Florida Department of Citrus\, 605 East Main Street\, Bartow\, FL\, 33830\, United States
CATEGORIES:Public Meetings
END:VEVENT
END:VCALENDAR