BEGIN:VCALENDAR
VERSION:2.0
PRODID:-//Florida Citrus Growers - ECPv6.15.17//NONSGML v1.0//EN
CALSCALE:GREGORIAN
METHOD:PUBLISH
X-WR-CALNAME:Florida Citrus Growers
X-ORIGINAL-URL:https://www.floridacitrus.org/grower
X-WR-CALDESC:Events for Florida Citrus Growers
REFRESH-INTERVAL;VALUE=DURATION:PT1H
X-Robots-Tag:noindex
X-PUBLISHED-TTL:PT1H
BEGIN:VTIMEZONE
TZID:America/New_York
BEGIN:DAYLIGHT
TZOFFSETFROM:-0500
TZOFFSETTO:-0400
TZNAME:EDT
DTSTART:20160313T070000
END:DAYLIGHT
BEGIN:STANDARD
TZOFFSETFROM:-0400
TZOFFSETTO:-0500
TZNAME:EST
DTSTART:20161106T060000
END:STANDARD
BEGIN:DAYLIGHT
TZOFFSETFROM:-0500
TZOFFSETTO:-0400
TZNAME:EDT
DTSTART:20170312T070000
END:DAYLIGHT
BEGIN:STANDARD
TZOFFSETFROM:-0400
TZOFFSETTO:-0500
TZNAME:EST
DTSTART:20171105T060000
END:STANDARD
BEGIN:DAYLIGHT
TZOFFSETFROM:-0500
TZOFFSETTO:-0400
TZNAME:EDT
DTSTART:20180311T070000
END:DAYLIGHT
BEGIN:STANDARD
TZOFFSETFROM:-0400
TZOFFSETTO:-0500
TZNAME:EST
DTSTART:20181104T060000
END:STANDARD
BEGIN:DAYLIGHT
TZOFFSETFROM:-0500
TZOFFSETTO:-0400
TZNAME:EDT
DTSTART:20190310T070000
END:DAYLIGHT
BEGIN:STANDARD
TZOFFSETFROM:-0400
TZOFFSETTO:-0500
TZNAME:EST
DTSTART:20191103T060000
END:STANDARD
BEGIN:DAYLIGHT
TZOFFSETFROM:-0500
TZOFFSETTO:-0400
TZNAME:EDT
DTSTART:20200308T070000
END:DAYLIGHT
BEGIN:STANDARD
TZOFFSETFROM:-0400
TZOFFSETTO:-0500
TZNAME:EST
DTSTART:20201101T060000
END:STANDARD
END:VTIMEZONE
BEGIN:VEVENT
DTSTART;TZID=America/New_York:20190320T090000
DTEND;TZID=America/New_York:20190320T090000
DTSTAMP:20260424T201545
CREATED:20181205T185539Z
LAST-MODIFIED:20181205T185539Z
UID:3079-1553072400-1553072400@www.floridacitrus.org
SUMMARY:Florida Citrus Commission Meeting
DESCRIPTION:Meeting Notice & Documents
URL:https://www.floridacitrus.org/grower/webinar/florida-citrus-commission-meeting-2/
LOCATION:Row – Benefit Cards
END:VEVENT
BEGIN:VEVENT
DTSTART;TZID=America/New_York:20190301T100000
DTEND;TZID=America/New_York:20190301T100000
DTSTAMP:20260424T201545
CREATED:20190220T175753Z
LAST-MODIFIED:20190220T175753Z
UID:3087-1551434400-1551434400@www.floridacitrus.org
SUMMARY:Processing Statistics Reporting Advisory Committee Meeting
DESCRIPTION:Meeting Notice
URL:https://www.floridacitrus.org/grower/webinar/processing-statistics-reporting-advisory-committee-meeting-3/
LOCATION:Row – Benefit Cards
END:VEVENT
BEGIN:VEVENT
DTSTART;TZID=America/New_York:20190221T100000
DTEND;TZID=America/New_York:20190221T100000
DTSTAMP:20260424T201545
CREATED:20190213T140324Z
LAST-MODIFIED:20190213T140324Z
UID:3086-1550743200-1550743200@www.floridacitrus.org
SUMMARY:Scientific Research Advisory Committee Meeting
DESCRIPTION:Meeting Notice
URL:https://www.floridacitrus.org/grower/webinar/scientific-research-advisory-committee-meeting-3/
LOCATION:Row – Benefit Cards
END:VEVENT
BEGIN:VEVENT
DTSTART;TZID=America/New_York:20190116T090000
DTEND;TZID=America/New_York:20190116T090000
DTSTAMP:20260424T201545
CREATED:20181205T185335Z
LAST-MODIFIED:20181205T185335Z
UID:3078-1547629200-1547629200@www.floridacitrus.org
SUMMARY:Florida Citrus Commission Meeting
DESCRIPTION:Meeting Notice & Documents
URL:https://www.floridacitrus.org/grower/webinar/florida-citrus-commission-meeting/
LOCATION:Row – Benefit Cards
END:VEVENT
BEGIN:VEVENT
DTSTART;TZID=America/New_York:20190111T100000
DTEND;TZID=America/New_York:20190111T100000
DTSTAMP:20260424T201545
CREATED:20190103T143752Z
LAST-MODIFIED:20190103T143752Z
UID:3085-1547200800-1547200800@www.floridacitrus.org
SUMMARY:Scientific Research Advisory Committee Telephonic Meeting
DESCRIPTION:Meeting Notice
URL:https://www.floridacitrus.org/grower/webinar/scientific-research-advisory-committee-telephonic-meeting/
LOCATION:Row – Benefit Cards
END:VEVENT
BEGIN:VEVENT
DTSTART;TZID=America/New_York:20181219T090000
DTEND;TZID=America/New_York:20181219T090000
DTSTAMP:20260424T201545
CREATED:20180620T203119Z
LAST-MODIFIED:20180620T203119Z
UID:323-1545210000-1545210000@www.floridacitrus.org
SUMMARY:Florida Citrus Commission Meeting
DESCRIPTION:Meeting Notice & Documents
URL:https://www.floridacitrus.org/grower/webinar/florida-citrus-commission-meeting-15/
LOCATION:Row – Benefit Cards
END:VEVENT
BEGIN:VEVENT
DTSTART;TZID=America/New_York:20181205T103000
DTEND;TZID=America/New_York:20181205T103000
DTSTAMP:20260424T201545
CREATED:20181205T134700Z
LAST-MODIFIED:20181205T134700Z
UID:3077-1544005800-1544005800@www.floridacitrus.org
SUMMARY:Florida Citrus Commission Telephonic Emergency Meeting
DESCRIPTION:The Florida Citrus Commission announces an emergency FCC telephonic meeting for Wednesday\, December 5\, 2018\, at 10:30am. The call in number is 1-888-670-3525\, enter conference code 2265370149# when prompted. \nThe Florida Citrus Commission will meet to discuss 20ER18-01\, emergency rule lowering the grapefruit minimum ratio of total soluble solids to anhydrous citric acid to 6 to 1 and minimum brix of 6.5 from December 10 through April 14\, 2019. Requested by the Florida Citrus Packers Association.
URL:https://www.floridacitrus.org/grower/webinar/fcc-telephonic-emergency-meeting/
LOCATION:Row – Benefit Cards
END:VEVENT
BEGIN:VEVENT
DTSTART;TZID=America/New_York:20181024T090000
DTEND;TZID=America/New_York:20181024T090000
DTSTAMP:20260424T201545
CREATED:20180620T202804Z
LAST-MODIFIED:20180620T202804Z
UID:3074-1540371600-1540371600@www.floridacitrus.org
SUMMARY:Florida Citrus Commission Meeting
DESCRIPTION:Meeting Notice & Documents
URL:https://www.floridacitrus.org/grower/webinar/florida-citrus-commission-meeting-14/
LOCATION:Row – Benefit Cards
END:VEVENT
BEGIN:VEVENT
DTSTART;TZID=America/New_York:20181011T140000
DTEND;TZID=America/New_York:20181011T140000
DTSTAMP:20260424T201545
CREATED:20181003T145757Z
LAST-MODIFIED:20181003T145757Z
UID:3076-1539266400-1539266400@www.floridacitrus.org
SUMMARY:Scientific Research Advisory Committee Meeting
DESCRIPTION:Meeting Notice
URL:https://www.floridacitrus.org/grower/webinar/scientific-research-advisory-committee-meeting-2/
LOCATION:Row – Benefit Cards
END:VEVENT
BEGIN:VEVENT
DTSTART;TZID=America/New_York:20180919T090000
DTEND;TZID=America/New_York:20180919T170000
DTSTAMP:20260424T201545
CREATED:20180620T203501Z
LAST-MODIFIED:20180620T203501Z
UID:326-1537347600-1537376400@www.floridacitrus.org
SUMMARY:Florida Citrus Commission Meeting
DESCRIPTION:Meeting Notice & Documents
URL:https://www.floridacitrus.org/grower/webinar/florida-citrus-commission-meeting-16/
LOCATION:Row – Benefit Cards
END:VEVENT
BEGIN:VEVENT
DTSTART;TZID=America/New_York:20180905T100000
DTEND;TZID=America/New_York:20180905T100000
DTSTAMP:20260424T201545
CREATED:20180824T155018Z
LAST-MODIFIED:20180824T155018Z
UID:3075-1536141600-1536141600@www.floridacitrus.org
SUMMARY:Processing Statistics Reporting Advisory Committee
DESCRIPTION:Meeting Notice
URL:https://www.floridacitrus.org/grower/webinar/processing-statistics-reporting-advisory-committee/
LOCATION:Row – Benefit Cards
END:VEVENT
BEGIN:VEVENT
DTSTART;TZID=America/New_York:20180620T090000
DTEND;TZID=America/New_York:20180620T090000
DTSTAMP:20260424T201545
CREATED:20180620T201840Z
LAST-MODIFIED:20180620T201840Z
UID:3073-1529485200-1529485200@www.floridacitrus.org
SUMMARY:Florida Citrus Commission Meeting
DESCRIPTION:Meeting Notice & Documents
URL:https://www.floridacitrus.org/grower/webinar/florida-citrus-commission-meeting-13/
LOCATION:Row – Benefit Cards
END:VEVENT
BEGIN:VEVENT
DTSTART;TZID=America/New_York:20180523T103000
DTEND;TZID=America/New_York:20180523T103000
DTSTAMP:20260424T201545
CREATED:20180620T201733Z
LAST-MODIFIED:20180620T201733Z
UID:283-1527071400-1527071400@www.floridacitrus.org
SUMMARY:Gift Fruit Shippers Advisory Council Meeting
DESCRIPTION:Meeting Notice
URL:https://www.floridacitrus.org/grower/webinar/gift-fruit-shippers-advisory-council-meeting-2/
END:VEVENT
BEGIN:VEVENT
DTSTART;TZID=America/New_York:20180516T090000
DTEND;TZID=America/New_York:20180516T090000
DTSTAMP:20260424T201545
CREATED:20180620T201558Z
LAST-MODIFIED:20180620T201558Z
UID:280-1526461200-1526461200@www.floridacitrus.org
SUMMARY:Florida Citrus Commission Meeting
DESCRIPTION:Meeting Notice & Documents
URL:https://www.floridacitrus.org/grower/webinar/florida-citrus-commission-meeting-12/
LOCATION:Row – Benefit Cards
END:VEVENT
BEGIN:VEVENT
DTSTART;TZID=America/New_York:20180321T090000
DTEND;TZID=America/New_York:20180321T090000
DTSTAMP:20260424T201545
CREATED:20180620T201351Z
LAST-MODIFIED:20180620T201351Z
UID:278-1521622800-1521622800@www.floridacitrus.org
SUMMARY:Florida Citrus Commission Meeting
DESCRIPTION:Meeting Notice & Documents
URL:https://www.floridacitrus.org/grower/webinar/florida-citrus-commission-meeting-11/
LOCATION:Row – Benefit Cards
END:VEVENT
BEGIN:VEVENT
DTSTART;TZID=America/New_York:20180302T100000
DTEND;TZID=America/New_York:20180302T100000
DTSTAMP:20260424T201545
CREATED:20180620T201149Z
LAST-MODIFIED:20180620T201149Z
UID:276-1519984800-1519984800@www.floridacitrus.org
SUMMARY:Processing Statistics Reporting Advisory Committee Meeting
DESCRIPTION:Meeting Notice
URL:https://www.floridacitrus.org/grower/webinar/processing-statistics-reporting-advisory-committee-meeting-2/
LOCATION:Row – Benefit Cards
END:VEVENT
BEGIN:VEVENT
DTSTART;TZID=America/New_York:20180227T100000
DTEND;TZID=America/New_York:20180227T100000
DTSTAMP:20260424T201545
CREATED:20180620T200950Z
LAST-MODIFIED:20180620T200950Z
UID:3071-1519725600-1519725600@www.floridacitrus.org
SUMMARY:Scientific Research Advisory Committee Meeting
DESCRIPTION:Meeting Notice
URL:https://www.floridacitrus.org/grower/webinar/scientific-research-advisory-committee-meeting/
LOCATION:Row – Benefit Cards
END:VEVENT
BEGIN:VEVENT
DTSTART;TZID=America/New_York:20180117T090000
DTEND;TZID=America/New_York:20180117T090000
DTSTAMP:20260424T201545
CREATED:20180620T200726Z
LAST-MODIFIED:20180620T200726Z
UID:3070-1516179600-1516179600@www.floridacitrus.org
SUMMARY:Florida Citrus Commission Meeting
DESCRIPTION:Meeting Notice & Documents
URL:https://www.floridacitrus.org/grower/webinar/florida-citrus-commission-meeting-10/
LOCATION:Row – Benefit Cards
END:VEVENT
BEGIN:VEVENT
DTSTART;TZID=America/New_York:20171220T080000
DTEND;TZID=America/New_York:20171220T170000
DTSTAMP:20260424T201545
CREATED:20180620T200452Z
LAST-MODIFIED:20180620T200452Z
UID:3069-1513756800-1513789200@www.floridacitrus.org
SUMMARY:Florida Citrus Commission Telephonic Meeting
DESCRIPTION:Meeting Notice & Documents
URL:https://www.floridacitrus.org/grower/webinar/florida-citrus-commission-telephonic-meeting-2/
END:VEVENT
BEGIN:VEVENT
DTSTART;TZID=America/New_York:20171025T090000
DTEND;TZID=America/New_York:20171025T090000
DTSTAMP:20260424T201545
CREATED:20180620T200245Z
LAST-MODIFIED:20180620T200245Z
UID:259-1508922000-1508922000@www.floridacitrus.org
SUMMARY:Florida Citrus Commission Meeting
DESCRIPTION:Meeting Notice & Documents
URL:https://www.floridacitrus.org/grower/webinar/florida-citrus-commission-meeting-9/
LOCATION:Row – Benefit Cards
END:VEVENT
BEGIN:VEVENT
DTSTART;TZID=America/New_York:20170928T100000
DTEND;TZID=America/New_York:20170928T120000
DTSTAMP:20260424T201545
CREATED:20180620T200031Z
LAST-MODIFIED:20180620T200031Z
UID:254-1506592800-1506600000@www.floridacitrus.org
SUMMARY:Gift Fruit Shippers Advisory Committee Telephonic Meeting
DESCRIPTION:Meeting Notice
URL:https://www.floridacitrus.org/grower/webinar/gift-fruit-shippers-advisory-committee-telephonic-meeting/
LOCATION:Row – Benefit Cards
END:VEVENT
BEGIN:VEVENT
DTSTART;TZID=America/New_York:20170920T090000
DTEND;TZID=America/New_York:20170920T170000
DTSTAMP:20260424T201545
CREATED:20180620T195923Z
LAST-MODIFIED:20180620T195923Z
UID:3068-1505898000-1505926800@www.floridacitrus.org
SUMMARY:Florida Citrus Commission Meeting
DESCRIPTION:Meeting Notice & Documents
URL:https://www.floridacitrus.org/grower/webinar/florida-citrus-commission-meeting-8/
LOCATION:Row – Benefit Cards
END:VEVENT
BEGIN:VEVENT
DTSTART;TZID=America/New_York:20170906T100000
DTEND;TZID=America/New_York:20170906T120000
DTSTAMP:20260424T201545
CREATED:20180620T195616Z
LAST-MODIFIED:20180620T195616Z
UID:3067-1504692000-1504699200@www.floridacitrus.org
SUMMARY:Processing Statistics Reporting Advisory Committee Meeting
DESCRIPTION:Meeting Notice
URL:https://www.floridacitrus.org/grower/webinar/processing-statistics-reporting-advisory-committee-meeting/
LOCATION:Row – Benefit Cards
END:VEVENT
BEGIN:VEVENT
DTSTART;TZID=America/New_York:20170802T100000
DTEND;TZID=America/New_York:20170802T120000
DTSTAMP:20260424T201545
CREATED:20180620T195227Z
LAST-MODIFIED:20180620T195227Z
UID:3066-1501668000-1501675200@www.floridacitrus.org
SUMMARY:Gift Fruit Shippers Advisory Council Meeting
DESCRIPTION:Meeting Notice
URL:https://www.floridacitrus.org/grower/webinar/gift-fruit-shippers-advisory-council-meeting/
LOCATION:Row – Benefit Cards
END:VEVENT
BEGIN:VEVENT
DTSTART;TZID=America/New_York:20170719T090000
DTEND;TZID=America/New_York:20170719T170000
DTSTAMP:20260424T201545
CREATED:20180620T195107Z
LAST-MODIFIED:20180620T195107Z
UID:3065-1500454800-1500483600@www.floridacitrus.org
SUMMARY:Florida Citrus Commission Telephonic Meeting
DESCRIPTION:Meeting Notice & Documents
URL:https://www.floridacitrus.org/grower/webinar/florida-citrus-commission-telephonic-meeting/
LOCATION:Row – Benefit Cards
END:VEVENT
BEGIN:VEVENT
DTSTART;TZID=America/New_York:20170621T090000
DTEND;TZID=America/New_York:20170621T090000
DTSTAMP:20260424T201545
CREATED:20180620T194922Z
LAST-MODIFIED:20180620T194922Z
UID:235-1498035600-1498035600@www.floridacitrus.org
SUMMARY:Florida Citrus Commission Meeting
DESCRIPTION:Meeting Notice & Documents
URL:https://www.floridacitrus.org/grower/webinar/florida-citrus-commission-meeting-7/
LOCATION:Row – Benefit Cards
END:VEVENT
BEGIN:VEVENT
DTSTART;TZID=America/New_York:20170608T150000
DTEND;TZID=America/New_York:20170608T170000
DTSTAMP:20260424T201545
CREATED:20180620T194133Z
LAST-MODIFIED:20180620T194133Z
UID:219-1496934000-1496941200@www.floridacitrus.org
SUMMARY:Scientific Research Advisory Council Meeting
DESCRIPTION:Scientific Research Advisory Council Meeting
URL:https://www.floridacitrus.org/grower/webinar/scientific-research-advisory-council-meeting/
LOCATION:FCM’s Wheeler: Farm Bill offers hope
END:VEVENT
BEGIN:VEVENT
DTSTART;TZID=America/New_York:20170606T090000
DTEND;TZID=America/New_York:20170606T110000
DTSTAMP:20260424T201545
CREATED:20180620T193431Z
LAST-MODIFIED:20180620T193431Z
UID:3064-1496739600-1496746800@www.floridacitrus.org
SUMMARY:Processing Statistics Reporting Advisory Council Telephonic Meeting
DESCRIPTION:https://fdocgrower.box.com/s/tqiw5d06cz17ayd9nh3l1ydv20cgniv3
URL:https://www.floridacitrus.org/grower/webinar/processing-statistics-reporting-advisory-council-telephonic-meeting/
LOCATION:Row – Benefit Cards
END:VEVENT
BEGIN:VEVENT
DTSTART;TZID=America/New_York:20170517T090000
DTEND;TZID=America/New_York:20170517T090000
DTSTAMP:20260424T201545
CREATED:20180620T193225Z
LAST-MODIFIED:20180620T193225Z
UID:215-1495011600-1495011600@www.floridacitrus.org
SUMMARY:Florida Citrus Commission Meeting
DESCRIPTION:Meeting Notice & Documents
URL:https://www.floridacitrus.org/grower/webinar/florida-citrus-commission-meeting-6/
LOCATION:Row – Benefit Cards
END:VEVENT
BEGIN:VEVENT
DTSTART;TZID=America/New_York:20170315T090000
DTEND;TZID=America/New_York:20170315T090000
DTSTAMP:20260424T201545
CREATED:20180620T192855Z
LAST-MODIFIED:20180620T192855Z
UID:3063-1489568400-1489568400@www.floridacitrus.org
SUMMARY:Florida Citrus Commission Meeting
DESCRIPTION:Meeting Notice & Documents
URL:https://www.floridacitrus.org/grower/webinar/florida-citrus-commission-meeting-5/
LOCATION:Row – Benefit Cards
END:VEVENT
END:VCALENDAR