BEGIN:VCALENDAR
VERSION:2.0
PRODID:-//Florida Citrus Growers - ECPv6.15.17//NONSGML v1.0//EN
CALSCALE:GREGORIAN
METHOD:PUBLISH
X-WR-CALNAME:Florida Citrus Growers
X-ORIGINAL-URL:https://www.floridacitrus.org/grower
X-WR-CALDESC:Events for Florida Citrus Growers
REFRESH-INTERVAL;VALUE=DURATION:PT1H
X-Robots-Tag:noindex
X-PUBLISHED-TTL:PT1H
BEGIN:VTIMEZONE
TZID:America/New_York
BEGIN:DAYLIGHT
TZOFFSETFROM:-0500
TZOFFSETTO:-0400
TZNAME:EDT
DTSTART:20190310T070000
END:DAYLIGHT
BEGIN:STANDARD
TZOFFSETFROM:-0400
TZOFFSETTO:-0500
TZNAME:EST
DTSTART:20191103T060000
END:STANDARD
BEGIN:DAYLIGHT
TZOFFSETFROM:-0500
TZOFFSETTO:-0400
TZNAME:EDT
DTSTART:20200308T070000
END:DAYLIGHT
BEGIN:STANDARD
TZOFFSETFROM:-0400
TZOFFSETTO:-0500
TZNAME:EST
DTSTART:20201101T060000
END:STANDARD
BEGIN:DAYLIGHT
TZOFFSETFROM:-0500
TZOFFSETTO:-0400
TZNAME:EDT
DTSTART:20210314T070000
END:DAYLIGHT
BEGIN:STANDARD
TZOFFSETFROM:-0400
TZOFFSETTO:-0500
TZNAME:EST
DTSTART:20211107T060000
END:STANDARD
BEGIN:DAYLIGHT
TZOFFSETFROM:-0500
TZOFFSETTO:-0400
TZNAME:EDT
DTSTART:20220313T070000
END:DAYLIGHT
BEGIN:STANDARD
TZOFFSETFROM:-0400
TZOFFSETTO:-0500
TZNAME:EST
DTSTART:20221106T060000
END:STANDARD
BEGIN:DAYLIGHT
TZOFFSETFROM:-0500
TZOFFSETTO:-0400
TZNAME:EDT
DTSTART:20230312T070000
END:DAYLIGHT
BEGIN:STANDARD
TZOFFSETFROM:-0400
TZOFFSETTO:-0500
TZNAME:EST
DTSTART:20231105T060000
END:STANDARD
END:VTIMEZONE
BEGIN:VEVENT
DTSTART;TZID=America/New_York:20220429T100000
DTEND;TZID=America/New_York:20220429T100000
DTSTAMP:20260424T113355
CREATED:20230308T135814Z
LAST-MODIFIED:20230308T135817Z
UID:5747-1651226400-1651226400@www.floridacitrus.org
SUMMARY:FDOC Interactive Discussion & Webinar: Advertising Tactics
DESCRIPTION:Presented by Chip Bates\, Executive Vice President at Edible\, Inc. and Samantha Lane\, Director of Global Marketing at FDOC \n\n\n\nAmericans are exposed to up to 10\,000 advertisements per day. With so many products and services vying for attention\, the method of delivery is an important factor. This discussion on the evolving consumer marketing space and ways brands are reaching consumers across digital\, social\, and traditional platforms. \n\n\n\nAnd we want to hear from you! Where would you like to see Florida Orange Juice advertised? What advertising tactic drives you to purchase? \n\n\n\nThe insights gleaned from this interactive event will help support 2022-23 planning efforts for Florida Orange Juice. \n\n\n\nWebinar Video \n\n\n\nPresentation Materials
URL:https://www.floridacitrus.org/grower/webinar/fdoc-interactive-discussion-webinar-advertising-tactics/
CATEGORIES:Webinars
END:VEVENT
BEGIN:VEVENT
DTSTART;TZID=America/New_York:20220316T090000
DTEND;TZID=America/New_York:20220316T120000
DTSTAMP:20260424T113355
CREATED:20211102T173340Z
LAST-MODIFIED:20211102T173340Z
UID:3123-1647421200-1647432000@www.floridacitrus.org
SUMMARY:Florida Citrus Commission Meeting
DESCRIPTION:Meeting Notice and Documents
URL:https://www.floridacitrus.org/grower/webinar/florida-citrus-commission-meeting-35/
LOCATION:Row – Benefit Cards
END:VEVENT
BEGIN:VEVENT
DTSTART;TZID=America/New_York:20220223T150000
DTEND;TZID=America/New_York:20220223T160000
DTSTAMP:20260424T113355
CREATED:20220215T180710Z
LAST-MODIFIED:20220215T180710Z
UID:3128-1645628400-1645632000@www.floridacitrus.org
SUMMARY:Telephonic Fruit Classification and Standards Advisory Committee Meeting
DESCRIPTION:  \n  \nMeeting Notice and Documents  \n 
URL:https://www.floridacitrus.org/grower/webinar/telephonic-fruit-classification-and-standards-advisory-committee-meeting/
LOCATION:Search Results
END:VEVENT
BEGIN:VEVENT
DTSTART;TZID=America/New_York:20220119T090000
DTEND;TZID=America/New_York:20220119T120000
DTSTAMP:20260424T113355
CREATED:20211102T172754Z
LAST-MODIFIED:20211102T172754Z
UID:3122-1642582800-1642593600@www.floridacitrus.org
SUMMARY:Florida Citrus Commission Meeting
DESCRIPTION:Meeting Notice and Documents
URL:https://www.floridacitrus.org/grower/webinar/florida-citrus-commission-meeting-29/
LOCATION:Row – Benefit Cards
END:VEVENT
BEGIN:VEVENT
DTSTART;TZID=America/New_York:20220113T110000
DTEND;TZID=America/New_York:20220113T120000
DTSTAMP:20260424T113355
CREATED:20220104T133944Z
LAST-MODIFIED:20230420T152921Z
UID:3127-1642071600-1642075200@www.floridacitrus.org
SUMMARY:FDOC Live Webinar
DESCRIPTION:FDOC eCommerce Initiatives Drive Florida OJ Sales: A behind-the-scenes dive into how it all works \n \nWithin the last several years\, particularly with the onset of the COVID 19 pandemic\, online grocery shopping and delivery services have seen a surge in popularity. The Florida Department of Citrus has been able to capitalize on this trend through a variety of eCommerce tactics. Please join us for a live webinar where Meredith Nelson\, Senior VP of Performance Intelligence-DXI at Edelman\, Inc\, will give a behind-the-scenes look at these tactics and how it all works to optimize performance and drive sales of Florida OJ. \nWebinar / Zoom Instructions:\n\nClick the Zoom meeting link to join the webinar at the designated date and time:  https://djeholdings.zoom.us/j/89689345953?pwd=TzRIbFEzS2NFTVQ2Zyt3NFVieGxoUT09\nClick the “Open Zoom Meeting” button in the pop-up window\nClick the “Join with Computer Audio” button in the pop-up window\nYou will then be placed into the live video presentation\n\nDial-In By Phone (only) Instructions:\n\nCall (346) 248-7799 US (Houston)\nAlternative Call-in Number: Call (646) 558-8656 US (New York) or find you local number: ttps://djeholdings.zoom.us/u/kbieYcQCrW\nEnter Meeting ID:  896 8934 5953\nEnter Password:  086613\n\nDownload Webinar Materials  \n 
URL:https://www.floridacitrus.org/grower/webinar/fdoc-live-webinar-11/
END:VEVENT
BEGIN:VEVENT
DTSTART;TZID=America/New_York:20220113T100000
DTEND;TZID=America/New_York:20220113T100000
DTSTAMP:20260424T113355
CREATED:20230308T140130Z
LAST-MODIFIED:20230308T140132Z
UID:5749-1642068000-1642068000@www.floridacitrus.org
SUMMARY:FDOC eCommerce Initiatives Drive Florida OJ Sales: A behind-the-scenes dive into how it all works
DESCRIPTION:Presented by Meredith Nelsen\, Senior VP of Performance Intelligence-DXI at Edelman\, Inc. \n\n\n\nAs online grocery shopping and delivery services surged in popularity over the last several years\, the Florida Department of Citrus activated a variety of eCommerce tactics to drive sales of Florida Orange Juice. \n\n\n\nAs we celebrate the two-year anniversary of this program\, we take a behind-the-scenes look at how and why these technology-driven tactics work. \n\n\n\nWebinar Video \n\n\n\nPresentation Materials \n\n\n\nWebinar Audio
URL:https://www.floridacitrus.org/grower/webinar/fdoc-ecommerce-initiatives-drive-florida-oj-sales-a-behind-the-scenes-dive-into-how-it-all-works/
CATEGORIES:Webinars
END:VEVENT
BEGIN:VEVENT
DTSTART;TZID=America/New_York:20211027T090000
DTEND;TZID=America/New_York:20211027T120000
DTSTAMP:20260424T113355
CREATED:20200930T185517Z
LAST-MODIFIED:20200930T185517Z
UID:3113-1635325200-1635336000@www.floridacitrus.org
SUMMARY:Florida Citrus Commission Meeting
DESCRIPTION:Meeting Notice and Documents
URL:https://www.floridacitrus.org/grower/webinar/florida-citrus-commission-meeting-34/
END:VEVENT
BEGIN:VEVENT
DTSTART;TZID=America/New_York:20211013T130000
DTEND;TZID=America/New_York:20211013T130000
DTSTAMP:20260424T113355
CREATED:20211005T164909Z
LAST-MODIFIED:20211005T164909Z
UID:1792-1634130000-1634130000@www.floridacitrus.org
SUMMARY:Scientific Research Advisory Committee Meeting
DESCRIPTION:  \n  \nMeeting Notice and Documents  \n 
URL:https://www.floridacitrus.org/grower/webinar/scientific-research-advisory-committee-meeting-8/
LOCATION:Row – Benefit Cards
END:VEVENT
BEGIN:VEVENT
DTSTART;TZID=America/New_York:20210928T130000
DTEND;TZID=America/New_York:20210928T140000
DTSTAMP:20260424T113355
CREATED:20210920T151108Z
LAST-MODIFIED:20210920T151108Z
UID:3121-1632834000-1632837600@www.floridacitrus.org
SUMMARY:Gift Fruit Shippers Advisory Council Meeting
DESCRIPTION:Zoom Instructions:\n\nClick the Zoom meeting link to join the webinar at the designated date and time: https://djehttps://djeholdings.zoom.us/j/84805464385?pwd=NVArTFR4QlZVbEZ1SXNNUXo4M2NNQT09 \nClick the “Open Zoom Meeting” button in the pop-up window\nClick the “Join with Computer Audio” button in the pop-up window\nYou will then be placed into the live video presentation\n\n  \nDial-In By Phone (only) Instructions:\n\nCall (646) 558-8656\nOr find your local number: https://djeholdings.zoom.us/u/acnBagT02s\nEnter Meeting ID: 848 0546 4385\nEnter Password (if prompted): 340280\n\n  \nMeeting Notice and Documents
URL:https://www.floridacitrus.org/grower/webinar/gift-fruit-shippers-advisory-council-meeting-3/
END:VEVENT
BEGIN:VEVENT
DTSTART;TZID=America/New_York:20210922T090000
DTEND;TZID=America/New_York:20210922T120000
DTSTAMP:20260424T113355
CREATED:20200930T185459Z
LAST-MODIFIED:20200930T185459Z
UID:3112-1632301200-1632312000@www.floridacitrus.org
SUMMARY:Florida Citrus Commission Meeting
DESCRIPTION:Meeting Notice and Documents
URL:https://www.floridacitrus.org/grower/webinar/florida-citrus-commission-meeting-33/
LOCATION:Row – Benefit Cards
END:VEVENT
BEGIN:VEVENT
DTSTART;TZID=America/New_York:20210824T090000
DTEND;TZID=America/New_York:20210824T120000
DTSTAMP:20260424T113355
CREATED:20200930T185434Z
LAST-MODIFIED:20200930T185434Z
UID:3111-1629795600-1629806400@www.floridacitrus.org
SUMMARY:Florida Citrus Commission Meeting
DESCRIPTION:  \n  \nMeeting Notice and Documents
URL:https://www.floridacitrus.org/grower/webinar/florida-citrus-commission-meeting-32/
LOCATION:Row – Benefit Cards
END:VEVENT
BEGIN:VEVENT
DTSTART;TZID=America/New_York:20210810T100000
DTEND;TZID=America/New_York:20210810T100000
DTSTAMP:20260424T113355
CREATED:20230308T140249Z
LAST-MODIFIED:20230308T140250Z
UID:5751-1628589600-1628589600@www.floridacitrus.org
SUMMARY:The Future of Florida's Commercial Citrus Tree Inventory
DESCRIPTION:Dr. Zansler and Dr. Spreen discuss the implications of the declining inventory and the economic challenges and benefits of replanting.  \n\n\n\nWebinar Video \n\n\n\nPresentation Materials \n\n\n\nWebinar Audio
URL:https://www.floridacitrus.org/grower/webinar/the-future-of-floridas-commercial-citrus-tree-inventory/
CATEGORIES:Webinars
END:VEVENT
BEGIN:VEVENT
DTSTART;TZID=America/New_York:20210810T090000
DTEND;TZID=America/New_York:20210810T100000
DTSTAMP:20260424T113355
CREATED:20210719T190700Z
LAST-MODIFIED:20230420T153254Z
UID:3120-1628586000-1628589600@www.floridacitrus.org
SUMMARY:FDOC Live Webinar
DESCRIPTION:FDOC Live Webinar:  The Future of Florida’s Commercial Citrus Tree Inventory\n  \n  \nWebinar / Zoom Instructions:\n\nClick the Zoom meeting link to join the webinar at the designated date and time:  https://djeholdings.zoom.us/j/84720382468?pwd=bEE1S01lTWYweVJSMkZXSnlMekVIdz09 \nClick the “Open Zoom Meeting” button in the pop-up window\nClick the “Join with Computer Audio” button in the pop-up window\nYou will then be placed into the live video presentation\n\nDial-In By Phone (only) Instructions:\n\nCall (346) 248-7799 US (Houston)\nAlternative Call-in Number: Call (646) 558-8656 US (New York) or find you local number: https://djeholdings.zoom.us/u/krGOPtCxD\nEnter Meeting ID: 847 2038 2468\nEnter Passcode: 426458\n\n  \nDownload Webinar Materials  \n 
URL:https://www.floridacitrus.org/grower/webinar/fdoc-live-webinar-8/
END:VEVENT
BEGIN:VEVENT
DTSTART;TZID=America/New_York:20210623T090000
DTEND;TZID=America/New_York:20210623T120000
DTSTAMP:20260424T113355
CREATED:20220104T134635Z
LAST-MODIFIED:20220104T134635Z
UID:3119-1624438800-1624449600@www.floridacitrus.org
SUMMARY:Florida Citrus Commission Meeting
DESCRIPTION:  \n  \nMeeting Notice and Documents
URL:https://www.floridacitrus.org/grower/webinar/florida-citrus-commission-meeting-41/
LOCATION:Row – Benefit Cards
END:VEVENT
BEGIN:VEVENT
DTSTART;TZID=America/New_York:20210603T090000
DTEND;TZID=America/New_York:20210603T090000
DTSTAMP:20260424T113355
CREATED:20210526T180204Z
LAST-MODIFIED:20210526T180204Z
UID:3118-1622710800-1622710800@www.floridacitrus.org
SUMMARY:Scientific Research Advisory Committee Meeting
DESCRIPTION:  \n  \nMeeting Notice and Documents  \n 
URL:https://www.floridacitrus.org/grower/webinar/scientific-research-advisory-committee-meeting-7/
LOCATION:Row – Benefit Cards
END:VEVENT
BEGIN:VEVENT
DTSTART;TZID=America/New_York:20210526T090000
DTEND;TZID=America/New_York:20210526T120000
DTSTAMP:20260424T113355
CREATED:20200930T185408Z
LAST-MODIFIED:20200930T185408Z
UID:3110-1622019600-1622030400@www.floridacitrus.org
SUMMARY:Florida Citrus Commission Meeting
DESCRIPTION:  \n  \nMeeting Notice and Documents
URL:https://www.floridacitrus.org/grower/webinar/florida-citrus-commission-meeting-31/
LOCATION:Row – Benefit Cards
END:VEVENT
BEGIN:VEVENT
DTSTART;TZID=America/New_York:20210520T140000
DTEND;TZID=America/New_York:20210520T150000
DTSTAMP:20260424T113355
CREATED:20210510T192237Z
LAST-MODIFIED:20210510T192237Z
UID:1608-1621519200-1621522800@www.floridacitrus.org
SUMMARY:FDOC Live Webinar
DESCRIPTION:FDOC Live Webinar:  Communications in the Misinformation Era\n\nThe Misinformation Era has introduced new complexity into how we communicate with consumers. These new dynamics have significant implications for all industries and how the Florida Department of Citrus communicates within the food and beverage sector. Please join us for a live webinar on this topic featuring Edible’s Alex Armentano as well as special guest Teresa Thorne\, Executive Director of the Alliance for Food and Farming. The session will explore what has changed\, what hasn’t and what we as an industry can do about it. We will also give a behind the scenes look at how sharing science-based information with consumers can lead to better outcomes. Additionally\, we’ll highlight how the FDOC puts this strategy into practice in order to protect the reputation of Florida Citrus. \nWebinar / Zoom Instructions:\n\nClick the Zoom meeting link to join the webinar at the designated date and time:  https://djeholdings.zoom.us/j/86440377325?pwd=bHpKa1BIWXJOamZOVWo2M0ZGVDZ3dz09 \nClick the “Open Zoom Meeting” button in the pop-up window\nClick the “Join with Computer Audio” button in the pop-up window\nYou will then be placed into the live video presentation\n\nDial-In By Phone (only) Instructions:\n\nCall (346) 248-7799 US (Houston)\nAlternative Call-in Number: Call (646) 558-8656 US (New York) or find you local number: https://djeholdings.zoom.us/u/krGOPtCxD\nEnter Meeting ID: 864 4037 7325\nEnter Password: 168068\n\nDownload Webinar Materials  \n 
URL:https://www.floridacitrus.org/grower/webinar/fdoc-live-webinar-10/
END:VEVENT
BEGIN:VEVENT
DTSTART;TZID=America/New_York:20210520T100000
DTEND;TZID=America/New_York:20210520T100000
DTSTAMP:20260424T113355
CREATED:20230308T140417Z
LAST-MODIFIED:20230308T140420Z
UID:5753-1621504800-1621504800@www.floridacitrus.org
SUMMARY:Communicating with Consumers in the Misinformation Era
DESCRIPTION:Presented by By Alex Armentano\, Edible\, Inc. \n\n\n\nThe Misinformation Era has introduced new complexity into how we communicate with consumers. These new dynamics have significant implications for all industries and how the Florida Department of Citrus communicates within the food and beverage sector. This session explores what has changed\, what hasn’t and what we as an industry can do about it. We also give a behind the scenes look at how sharing science-based communication with consumers can lead to better outcomes. \n\n\n\nThis webinar features remarks from: \n\n\n\n\nShannon Shepp\, Executive Director\, Florida Department of Citrus\n\n\n\nTeresa Thorne\, Executive Director at the Alliance for Food and Farming\n\n\n\nAlex Armentano\, Vice President – Crisis and Risk\, Edible Inc.\n\n\n\n\nWebinar Video \n\n\n\nPresentation Materials
URL:https://www.floridacitrus.org/grower/webinar/communicating-with-consumers-in-the-misinformation-era/
CATEGORIES:Webinars
END:VEVENT
BEGIN:VEVENT
DTSTART;TZID=America/New_York:20210317T090000
DTEND;TZID=America/New_York:20210317T120000
DTSTAMP:20260424T113355
CREATED:20200930T185344Z
LAST-MODIFIED:20200930T185344Z
UID:1346-1615971600-1615982400@www.floridacitrus.org
SUMMARY:Florida Citrus Commission Meeting
DESCRIPTION:Zoom Instructions:\n\nClick the Zoom link to join the meeting at the designated date and time: https://djeholdings.zoom.us/j/98200494506?pwd=dVZ0MFJoY3BLRHkvbzhQQ2cwUGlCZz09\nClick the “Open Zoom Meeting” button in the pop-up window.\nClick the “Join with Computer Audio” button in the pop-up window.\nYou will then be placed into the live video presentation.\n\nDial-In By Phone (only) Instructions:\n\nCall (312) 626-6799 or (646) 558-8656\nOr Find your local number: https://djeholdings.zoom.us/u/aeGHbTtFo3\nEnter Meeting ID: 982 0049 4506\nEnter Password (if prompted): 919836\n\nMeeting Notice and Documents
URL:https://www.floridacitrus.org/grower/webinar/florida-citrus-commission-meeting-30/
END:VEVENT
BEGIN:VEVENT
DTSTART;TZID=America/New_York:20210203T090000
DTEND;TZID=America/New_York:20210203T120000
DTSTAMP:20260424T113355
CREATED:20200930T184957Z
LAST-MODIFIED:20200930T184957Z
UID:1343-1612342800-1612353600@www.floridacitrus.org
SUMMARY:Florida Citrus Commission Meeting
DESCRIPTION:Zoom Instructions:\n\nClick the Zoom link to join the meeting at the designated date and time: https://djeholdings.zoom.us/j/95374388708?pwd=a2w5dXdhMnMwaHFzUnp0UnFUWVZidz09 \nClick the “Open Zoom Meeting” button in the pop-up window.\nClick the “Join with Computer Audio” button in the pop-up window.\nYou will then be placed into the live video presentation.\n\nDial-In By Phone (only) Instructions:\n\nCall (312) 626-6799 or (646) 558-8656\nOr Find your local number: https://djeholdings.zoom.us/u/ab5rQZTirK \nEnter Meeting ID: 953 7438 8708\nEnter Password (if prompted): 023938\n\nMeeting Notice and Documents \n 
URL:https://www.floridacitrus.org/grower/webinar/florida-citrus-commission-meeting-26/
END:VEVENT
BEGIN:VEVENT
DTSTART;TZID=America/New_York:20210121T090000
DTEND;TZID=America/New_York:20210121T100000
DTSTAMP:20260424T113355
CREATED:20210112T152054Z
LAST-MODIFIED:20210112T152054Z
UID:3117-1611219600-1611223200@www.floridacitrus.org
SUMMARY:Scientific Research Advisory Committee Zoom Meeting
DESCRIPTION:Zoom Instructions:\n\nClick the Zoom meeting link to join the webinar at the designated date and time: https://ufl.zoom.us/j/92425563730?pwd=V2xibTBkOThIY0lSSnNjeU41MFEzUT09 \nClick the “Open Zoom Meeting” button in the pop-up window.\nClick the “Join with Computer Audio” button in the pop-up window.\nYou will then be placed into the live video presentation.\n\nDial-In By Phone (only) Instructions:\n\nCall (646) 558-8656\nEnter Meeting ID: 924 2556 3730\nEnter Meeting Passcode:  659054\n\nMeeting Notice and Documents \n 
URL:https://www.floridacitrus.org/grower/webinar/scientific-research-advisory-committee-zoom-meeting/
END:VEVENT
BEGIN:VEVENT
DTSTART;TZID=America/New_York:20210119T100000
DTEND;TZID=America/New_York:20210119T100000
DTSTAMP:20260424T113355
CREATED:20230308T140622Z
LAST-MODIFIED:20230308T140625Z
UID:5755-1611050400-1611050400@www.floridacitrus.org
SUMMARY:The Impact of 'Florida' on Consumers' Willingness to Pay for Orange Juice
DESCRIPTION:Dr. Lisa House provides an overview of the impacts of marketing ‘Florida’ as an attribute on consumers’ willingness to pay for orange juice. \n\n\n\nWebinar Video \n\n\n\nPresentation Materials \n\n\n\nWebinar Audio
URL:https://www.floridacitrus.org/grower/webinar/the-impact-of-florida-on-consumers-willingness-to-pay-for-orange-juice/
CATEGORIES:Webinars
END:VEVENT
BEGIN:VEVENT
DTSTART;TZID=America/New_York:20210119T090000
DTEND;TZID=America/New_York:20210119T100000
DTSTAMP:20260424T113355
CREATED:20210108T162913Z
LAST-MODIFIED:20210108T162913Z
UID:3116-1611046800-1611050400@www.floridacitrus.org
SUMMARY:FDOC Live Webinar
DESCRIPTION:FDOC Live Webinar:  Impacts of ‘Florida’ on Consumer’s Willingness to Pay for Orange Juice\n\nPlease join us for a live webinar where Dr. Lisa House\, Professor and Department Chair of Food and Resource Economics at the University of Florida\, will provide an overview of the impacts of marketing ‘Florida’ as an attribute on consumer’s willingness to pay for orange juice. \nWebinar / Zoom Instructions:\n\nClick the Zoom meeting link to join the webinar at the designated date and time:  https://djeholdings.zoom.us/j/96147863175?pwd=L3ptdVYyaDBiVTZDdGgvRUhLUGYxUT09 \nClick the “Open Zoom Meeting” button in the pop-up window\nClick the “Join with Computer Audio” button in the pop-up window\nYou will then be placed into the live video presentation\n\nDial-In By Phone (only) Instructions:\n\nCall 346 248 7799 US (Houston)\nAlternative Call-in Numbers: Call 646 558 8656 US (New York) or find you local number:\nhttps://djeholdings.zoom.us/u/ad4Bbe1cLa\nEnter Meeting ID: 961 4786 3175\nEnter Password: 555213\n\nDownload Webinar Materials\n 
URL:https://www.floridacitrus.org/grower/webinar/fdoc-live-webinar-9/
END:VEVENT
BEGIN:VEVENT
DTSTART;TZID=America/New_York:20210114T110000
DTEND;TZID=America/New_York:20210114T120000
DTSTAMP:20260424T113355
CREATED:20210107T185906Z
LAST-MODIFIED:20210107T185906Z
UID:3115-1610622000-1610625600@www.floridacitrus.org
SUMMARY:FDOC Live Webinar
DESCRIPTION:FDOC Live Webinar:  2020-2025 Dietary Guidelines: The 100% Juice Perspective\n\nby Gail Rampersaud\, MS\, RDN\nPlease join the FDOC’s Scientific Research Department as they review the newly released 2020-2025 Dietary Guidelines for Americans. Registered Dietitian Nutritionist Gail Rampersaud will review the process behind the Guidelines and outline its recommendations related to 100% fruit juice while highlighting opportunities to support the inclusion of 100% orange juice as part of a healthy diet. \nWebinar / Zoom Instructions:\n\nClick the Zoom meeting link to join the webinar at the designated date and time: https://djhttps://djeholdings.zoom.us/j/92823556156?pwd=TXZCdUppK01Yd0M4UWNOanN3Q0hBdz09\nClick the “Open Zoom Meeting” button in the pop-up window\nClick the “Join with Computer Audio” button in the pop-up window\nYou will then be placed into the live video presentation\n\nDial-In By Phone (only) Instructions:\n\nCall 346 248 7799 US (Houston)\nAlternative Call-in Numbers: Call 646 558 8656 US (New York) or find you local number:\nhttps://djeholdings.zoom.us/u/abaG0mbZrN\nEnter Meeting ID: 928 2355 6156\nEnter Password: 772410\n\nDownload Webinar Materials\n 
URL:https://www.floridacitrus.org/grower/webinar/fdoc-live-webinar-7/
END:VEVENT
BEGIN:VEVENT
DTSTART;TZID=America/New_York:20210114T100000
DTEND;TZID=America/New_York:20210114T100000
DTSTAMP:20260424T113355
CREATED:20230308T140803Z
LAST-MODIFIED:20230308T140804Z
UID:5757-1610618400-1610618400@www.floridacitrus.org
SUMMARY:2020 - 2025 Dietary Guidelines: The 100% Juice Perspective
DESCRIPTION:Presented by Gail Rampersaud\, MS\, RDN  \n\n\n\nRegistered Dietitian Nutritionist Gail Rampersaud reviews the process behind the Guidelines and outlines its recommendations related to 100% fruit juice while highlighting opportunities to support the inclusion of 100% orange juice as part of a healthy diet.  \n\n\n\n \n\n\n\nWebinar Video \n\n\n\nPresentation Materials: 2020 – 2025 Dietary Guidelines: The 100% Juice Perspective \n\n\n\nWebinar Audio
URL:https://www.floridacitrus.org/grower/webinar/2020-2025-dietary-guidelines-the-100-juice-perspective/
CATEGORIES:Webinars
END:VEVENT
BEGIN:VEVENT
DTSTART;TZID=America/New_York:20201216T103000
DTEND;TZID=America/New_York:20201216T113000
DTSTAMP:20260424T113355
CREATED:20201208T190137Z
LAST-MODIFIED:20201208T190137Z
UID:1421-1608114600-1608118200@www.floridacitrus.org
SUMMARY:FDOC Live Webinar
DESCRIPTION:FDOC Live Webinar: Benefits from FDOC Generic Promotion on the Demand for Orange Juice and Return to Florida Producers and the latest Neilson OJ Retail Sales Report (4-week period ending Nov. 28)\n\nby Dr. Lisa House\, Professor and Department Chair of Food and Resource Economics\, University of Florida and\nDr. Marisa Zansler\, Director of Economic and Market Research\, FDOC \nPlease join us for a live webinar where Dr. Lisa House will provide an in-depth presentation of the benefits from FDOC generic promotion on the demand for orange juice and the return to Florida Producers. Dr. Marisa Zansler will also provide an overview of the latest Nielson OJ Retail Sales report for the four-week period ending Nov. 28\, 2020. \nWebinar / Zoom Instructions:\n\nClick the Zoom meeting link to join the webinar at the designated date and time: https://djeholdings.zoom.us/j/93877641734?pwd=d241eDRaMS9KNlNwMXRrTWFtZ0VYdz09\nClick the “Open Zoom Meeting” button in the pop-up window\nClick the “Join with Computer Audio” button in the pop-up window\nYou will then be placed into the live video presentation\n\nDial-In By Phone (only) Instructions:\n\nCall 346 248 7799 US (Houston)\nAlternative Call-in Numbers: Call 646 558 8656 US (New York) or find you local number: https://djeholdings.zoom.us/u/adQ771OZSt\nEnter Meeting ID: 938 7764 1734\nEnter Password: 406691\n\nDownload Webinar Materials
URL:https://www.floridacitrus.org/grower/webinar/fdoc-live-webinar-6/
END:VEVENT
BEGIN:VEVENT
DTSTART;TZID=America/New_York:20201027T100000
DTEND;TZID=America/New_York:20201027T100000
DTSTAMP:20260424T113355
CREATED:20230308T140950Z
LAST-MODIFIED:20230308T140952Z
UID:5759-1603792800-1603792800@www.floridacitrus.org
SUMMARY:Consumer Insights and Behaviors — COVID-19 Impacts Refreshed for October 2020
DESCRIPTION:Presented by Kim McAndrews\, SVP and Food & Beverage Strategic Planner\, Edelman/Edible \n\n\n\nEach month\, the FDOC and partner agency\, Edible\, dig deep into current consumer behaviors to gain insights on how messaging and programming could be adapted for the greatest success. This webinar focuses on Kim McAndrews discussion of where consumers are today\, how they are shifting in the rapidly changing environment of COVID-19 and the potential implications for Florida Citrus. \n\n\n\nWebinar Video \n\n\n\nPresentation Materials \n\n\n\nWebinar Audio
URL:https://www.floridacitrus.org/grower/webinar/consumer-insights-and-behaviors-covid-19-impacts-refreshed-for-october-2020/
CATEGORIES:Webinars
END:VEVENT
BEGIN:VEVENT
DTSTART;TZID=America/New_York:20201021T090000
DTEND;TZID=America/New_York:20201021T090000
DTSTAMP:20260424T113355
CREATED:20200109T154631Z
LAST-MODIFIED:20200109T154631Z
UID:3099-1603270800-1603270800@www.floridacitrus.org
SUMMARY:Florida Citrus Commission Meeting
DESCRIPTION:Meeting Notice and Documents
URL:https://www.floridacitrus.org/grower/webinar/florida-citrus-commission-meeting-28/
LOCATION:Row – Benefit Cards
END:VEVENT
BEGIN:VEVENT
DTSTART;TZID=America/New_York:20201013T100000
DTEND;TZID=America/New_York:20201013T100000
DTSTAMP:20260424T113355
CREATED:20230308T141114Z
LAST-MODIFIED:20230308T141116Z
UID:5761-1602583200-1602583200@www.floridacitrus.org
SUMMARY:Overview of the latest Nielsen OJ Retail Sales Report (4-week period ending Sept. 26) & Processors' Statistics Reports
DESCRIPTION:Presented by Dr. Marisa Zansler\, FDOC Director of Economic and Market Research and Chief Economist for the Florida Citrus Commission \n\n\n\nDr. Marisa Zansler provides an in-depth overview of the final Nielsen OJ Retail Sales Report for the 2019-20 season through the four-week period ending September 26\, 2020\, as well as a walk-through of the newly released Growers’ Companion Report that supplements the Weekly Processors’ Statistics Report. \n\n\n\nPresentation Materials \n\n\n\nWebinar Video \n\n\n\nWebinar Audio
URL:https://www.floridacitrus.org/grower/webinar/overview-of-the-latest-nielsen-oj-retail-sales-report-4-week-period-ending-sept-26-processors-statistics-reports/
CATEGORIES:Webinars
END:VEVENT
BEGIN:VEVENT
DTSTART;TZID=America/New_York:20201013T090000
DTEND;TZID=America/New_York:20201013T100000
DTSTAMP:20260424T113355
CREATED:20201001T202750Z
LAST-MODIFIED:20201001T202750Z
UID:3114-1602579600-1602583200@www.floridacitrus.org
SUMMARY:FDOC Live Webinar
DESCRIPTION:FDOC Live Webinar:  Overview of the latest Neilson OJ Retail Sales Report (4-week period ending Sept. 26) & Processors’ Statistics Reports\n\nby Dr. Marisa Zansler\, FDOC Director of Economic and Market Research and Chief Economist for the Florida Citrus Commission\nPlease join us for a live webinar where Dr. Marisa Zansler will provide an in-depth overview of the final Nielson OJ Retail Sales report for the 2019-20 season through the four-week period ending Sept. 26\, 2020\, as well as a walk-through of the newly released Growers’ Companion Report that complements the Weekly Processors’ Statistics Report. \nWebinar / Zoom Instructions:\n\nClick the Zoom meeting link to join the webinar at the designated date and time: https://djeholdings.zoom.us/j/94201078372?pwd=aS9vQmZvY3ZZcExiWnlWWjVKUjIrZz09\nClick the “Open Zoom Meeting” button in the pop-up window\nClick the “Join with Computer Audio” button in the pop-up window\nYou will then be placed into the live video presentation\n\nDial-In By Phone (only) Instructions:\n\nCall 346 248 7799 US (Houston)\nAlternative Call-in Numbers: Call 646 558 8656 US (New York) or Find you local number: https://djeholdings.zoom.us/u/a7MUHSgWb\nEnter Meeting ID: 942 0107 8372\nEnter Password: 777555\n\nWebinar Materials
URL:https://www.floridacitrus.org/grower/webinar/fdoc-live-webinar-5/
END:VEVENT
END:VCALENDAR