BEGIN:VCALENDAR
VERSION:2.0
PRODID:-//Florida Citrus Growers - ECPv6.15.17//NONSGML v1.0//EN
CALSCALE:GREGORIAN
METHOD:PUBLISH
X-ORIGINAL-URL:https://www.floridacitrus.org/grower/fr
X-WR-CALDESC:Événements pour Florida Citrus Growers
REFRESH-INTERVAL;VALUE=DURATION:PT1H
X-Robots-Tag:noindex
X-PUBLISHED-TTL:PT1H
BEGIN:VTIMEZONE
TZID:America/New_York
BEGIN:DAYLIGHT
TZOFFSETFROM:-0500
TZOFFSETTO:-0400
TZNAME:EDT
DTSTART:20230312T070000
END:DAYLIGHT
BEGIN:STANDARD
TZOFFSETFROM:-0400
TZOFFSETTO:-0500
TZNAME:EST
DTSTART:20231105T060000
END:STANDARD
BEGIN:DAYLIGHT
TZOFFSETFROM:-0500
TZOFFSETTO:-0400
TZNAME:EDT
DTSTART:20240310T070000
END:DAYLIGHT
BEGIN:STANDARD
TZOFFSETFROM:-0400
TZOFFSETTO:-0500
TZNAME:EST
DTSTART:20241103T060000
END:STANDARD
BEGIN:DAYLIGHT
TZOFFSETFROM:-0500
TZOFFSETTO:-0400
TZNAME:EDT
DTSTART:20250309T070000
END:DAYLIGHT
BEGIN:STANDARD
TZOFFSETFROM:-0400
TZOFFSETTO:-0500
TZNAME:EST
DTSTART:20251102T060000
END:STANDARD
END:VTIMEZONE
BEGIN:VEVENT
DTSTART;TZID=America/New_York:20241202T110000
DTEND;TZID=America/New_York:20241202T110000
DTSTAMP:20260425T083512
CREATED:20241202T201203Z
LAST-MODIFIED:20241202T203039Z
UID:6897-1733137200-1733137200@www.floridacitrus.org
SUMMARY:Virtual Florida Citrus Commission Meeting
DESCRIPTION:This is a virtual meeting and is only accessible through the Microsoft Teams meeting link or call-in number listed below. \n\n\n\nJoin on your computer\, mobile app or room device: Click here to join the meetingMeeting ID: 299 640 240 972 Passcode: 3tH92cf7 \n\n\n\nYou may also call in to the meeting (audio only) by using the following telephone number and conference ID:+1 904-539-9759\,\, 203689538# United States\, JacksonvillePhone Conference ID: 203 689 538# \n\n\n\nMeeting Notice and Documents
URL:https://www.floridacitrus.org/grower/fr/webinar/virtual-florida-citrus-commission-meeting-2/
LOCATION:Florida Department of Citrus\, 605 East Main Street\, Bartow\, FL\, 33830\, United States
CATEGORIES:Public Meetings
END:VEVENT
END:VCALENDAR